BEGIN:VCALENDAR
VERSION:2.0
PRODID:spatie/icalendar-generator
DESCRIPTION:Veranstaltungen von saubererkiezspandau.de
X-WR-CALDESC:Veranstaltungen von saubererkiezspandau.de
REFRESH-INTERVAL;VALUE=DURATION:PT1440M
X-PUBLISHED-TTL:PT1440M
BEGIN:VTIMEZONE
TZID:Europe/Berlin
BEGIN:DAYLIGHT
DTSTART:20250330T020000Z
TZOFFSETFROM:+0100
TZOFFSETTO:+0200
END:DAYLIGHT
BEGIN:STANDARD
DTSTART:20251026T030000Z
TZOFFSETFROM:+0200
TZOFFSETTO:+0100
END:STANDARD
END:VTIMEZONE
BEGIN:VTIMEZONE
TZID:UTC
BEGIN:STANDARD
DTSTART:20250729T212838Z
TZOFFSETFROM:+0000
TZOFFSETTO:+0000
END:STANDARD
END:VTIMEZONE
BEGIN:VEVENT
UID:223-217
DTSTAMP:20260425T212838Z
SUMMARY:Sauberer Kiez Spandau\, Am Kiesteich 40\, Eingang Kita \"Kiesteichs
 urfer\"
LOCATION:
ORGANIZER;CN=Barbara Ide:MAILTO:info@saubererkiezspandau.de
DTSTART;TZID=Europe/Berlin:20250915T173000
DTEND;TZID=Europe/Berlin:20250915T183000
X-ALT-DESC;FMTTYPE=TEXT/HTML:
CATEGORIES:General
URL;VALUE=URI:https://saubererkiezspandau.de/mc-events/sauberer-kiez-spanda
 u-am-kiesteich-40-eingang-kita-kiesteichsurfer/
METHOD:PUBLISH
END:VEVENT
END:VCALENDAR