BEGIN:VCALENDAR
VERSION:2.0
PRODID:spatie/icalendar-generator
DESCRIPTION:Veranstaltungen von saubererkiezspandau.de
X-WR-CALDESC:Veranstaltungen von saubererkiezspandau.de
REFRESH-INTERVAL;VALUE=DURATION:PT1440M
X-PUBLISHED-TTL:PT1440M
BEGIN:VTIMEZONE
TZID:Europe/Berlin
BEGIN:STANDARD
DTSTART:20241027T030000Z
TZOFFSETFROM:+0200
TZOFFSETTO:+0100
END:STANDARD
BEGIN:DAYLIGHT
DTSTART:20250330T020000Z
TZOFFSETFROM:+0100
TZOFFSETTO:+0200
END:DAYLIGHT
BEGIN:STANDARD
DTSTART:20251026T030000Z
TZOFFSETFROM:+0200
TZOFFSETTO:+0100
END:STANDARD
END:VTIMEZONE
BEGIN:VTIMEZONE
TZID:UTC
BEGIN:STANDARD
DTSTART:20250728T144227Z
TZOFFSETFROM:+0000
TZOFFSETTO:+0000
END:STANDARD
END:VTIMEZONE
BEGIN:VEVENT
UID:182-176
DTSTAMP:20260424T144227Z
SUMMARY:Sauberer Kiez Spandau - Schulaktion: GS am Brandwerder\, Spandauer 
 Str. 86
LOCATION:Rohrdamm / Alte S-Bahnbrücke  Jungfernheideweg Berlin Berlin 1362
 9
ORGANIZER;CN=Administrator:MAILTO:stephan@atelier-reising.de
DTSTART;TZID=Europe/Berlin:20250527T153000
DTEND;TZID=Europe/Berlin:20250527T163000
X-ALT-DESC;FMTTYPE=TEXT/HTML:
CATEGORIES:General
URL;VALUE=URI:https://saubererkiezspandau.de/mc-events/sauberer-kiez-spanda
 u-schulaktion-gs-am-brandwerder-spandauer-str-86/
METHOD:PUBLISH
END:VEVENT
END:VCALENDAR