BEGIN:VCALENDAR
VERSION:2.0
PRODID:spatie/icalendar-generator
DESCRIPTION:Veranstaltungen von saubererkiezspandau.de
X-WR-CALDESC:Veranstaltungen von saubererkiezspandau.de
REFRESH-INTERVAL;VALUE=DURATION:PT1440M
X-PUBLISHED-TTL:PT1440M
BEGIN:VTIMEZONE
TZID:Europe/Berlin
BEGIN:STANDARD
DTSTART:20241027T030000Z
TZOFFSETFROM:+0200
TZOFFSETTO:+0100
END:STANDARD
BEGIN:DAYLIGHT
DTSTART:20250330T020000Z
TZOFFSETFROM:+0100
TZOFFSETTO:+0200
END:DAYLIGHT
BEGIN:STANDARD
DTSTART:20251026T030000Z
TZOFFSETFROM:+0200
TZOFFSETTO:+0100
END:STANDARD
END:VTIMEZONE
BEGIN:VTIMEZONE
TZID:UTC
BEGIN:STANDARD
DTSTART:20250728T230914Z
TZOFFSETFROM:+0000
TZOFFSETTO:+0000
END:STANDARD
END:VTIMEZONE
BEGIN:VEVENT
UID:187-181
DTSTAMP:20260424T230914Z
SUMMARY:Sauberer Kiez Spandau - Wilhelmstadt: Gelbe Telefonzelle am Földer
 ichplatz
LOCATION:Stadtteilladen Adamstraße 39 Adamstraße 39  Berlin Berlin 13595
ORGANIZER;CN=Administrator:MAILTO:stephan@atelier-reising.de
DTSTART;TZID=Europe/Berlin:20250602T170000
DTEND;TZID=Europe/Berlin:20250602T180000
X-ALT-DESC;FMTTYPE=TEXT/HTML:
CATEGORIES:General
URL;VALUE=URI:https://saubererkiezspandau.de/mc-events/sauberer-kiez-spanda
 u-wilhelmstadt-gelbe-telefonzelle-am-foelderichplatz/
METHOD:PUBLISH
END:VEVENT
END:VCALENDAR